BEGIN:VCALENDAR
VERSION:2.0
PRODID:-//Brit Boy Street Food - ECPv6.15.20//NONSGML v1.0//EN
CALSCALE:GREGORIAN
METHOD:PUBLISH
X-WR-CALNAME:Brit Boy Street Food
X-ORIGINAL-URL:https://britboystreetfood.com
X-WR-CALDESC:Events for Brit Boy Street Food
REFRESH-INTERVAL;VALUE=DURATION:PT1H
X-Robots-Tag:noindex
X-PUBLISHED-TTL:PT1H
BEGIN:VTIMEZONE
TZID:UTC
BEGIN:STANDARD
TZOFFSETFROM:+0000
TZOFFSETTO:+0000
TZNAME:UTC
DTSTART:20240101T000000
END:STANDARD
END:VTIMEZONE
BEGIN:VEVENT
DTSTART;TZID=UTC:20251122T100000
DTEND;TZID=UTC:20251122T130000
DTSTAMP:20260422T083756
CREATED:20251026T223746Z
LAST-MODIFIED:20251026T224136Z
UID:2194-1763805600-1763816400@britboystreetfood.com
SUMMARY:Holiday Market Lenexa November
DESCRIPTION:Come pick up your freshly FROZEN Brit Boy pies and sausage rolls in packs of two! \nSupport Local \nSteak\, Ale and Mushroom \nBirria + Cilantro Lime Mash \nCheddar\, Ale and Chicken \nCheddar\, Ale and Broccoli (Veggie) \nShepherds Pie \nSausage Rolls – (Traditional/ Spicy) \nSteak & Ale Pasty \nCheddar Ale & Chicken Pasty \nShepherds Pie Pasty \nBirria Pasty
URL:https://britboystreetfood.com/event/holiday-market-lenexa/
LOCATION:Lenexa Public Market\, 8750 Penrose Ln\, Lenexa\, KS\, 66219\, United States
ORGANIZER;CN="Brit Boy Street Food":MAILTO:britboy@britboystreetfood.com
END:VEVENT
END:VCALENDAR