BEGIN:VCALENDAR
VERSION:2.0
PRODID:-//Brit Boy Street Food - ECPv6.15.20//NONSGML v1.0//EN
CALSCALE:GREGORIAN
METHOD:PUBLISH
X-ORIGINAL-URL:https://britboystreetfood.com
X-WR-CALDESC:Events for Brit Boy Street Food
REFRESH-INTERVAL;VALUE=DURATION:PT1H
X-Robots-Tag:noindex
X-PUBLISHED-TTL:PT1H
BEGIN:VTIMEZONE
TZID:UTC
BEGIN:STANDARD
TZOFFSETFROM:+0000
TZOFFSETTO:+0000
TZNAME:UTC
DTSTART:20240101T000000
END:STANDARD
END:VTIMEZONE
BEGIN:VEVENT
DTSTART;TZID=UTC:20260411T160000
DTEND;TZID=UTC:20260411T190000
DTSTAMP:20260420T055043
CREATED:20260401T183228Z
LAST-MODIFIED:20260401T190309Z
UID:3157-1775923200-1775934000@britboystreetfood.com
SUMMARY:Stockyards Brewery (Overland Park)
DESCRIPTION:  \nCome Join us inside Stockyards newest location in Overland Park for your Saturday night dinner. Enjoy Whisky Mash band and their bluegrass Music starting at 5pm \nApril 11th 4pm \nThe Menu \nSausage Rolls (Traditional/ Spicy) \nSteak\, Ale and Mushroom Pie \nShepherds Pie \nCheddar Ale and Chicken Pie \nBirria Pie w/ Cilantro Lime Potato’s
URL:https://britboystreetfood.com/event/stockyards-brewery-overland-park/
LOCATION:StockYards Brewery\, 10310 Mastin St\, Overland Park\, KS\, 66212\, United States
ORGANIZER;CN="Brit Boy Street Food":MAILTO:britboy@britboystreetfood.com
END:VEVENT
BEGIN:VEVENT
DTSTART;TZID=UTC:20260329T110000
DTEND;TZID=UTC:20260329T180000
DTSTAMP:20260420T055043
CREATED:20260310T043356Z
LAST-MODIFIED:20260311T022146Z
UID:3067-1774782000-1774807200@britboystreetfood.com
SUMMARY:Lenexa Public Market POP UP
DESCRIPTION:  \n  \n  \n  \n  \n  \n  \n  \nLenexa Public Market\nCome join us inside Lenexa City Center (After the last Winter Market) Upstairs. Saturday 3pm-7pm and Sunday 11am-6pm\nWe will have the full menu available\nSteak\, Ale and Mushroom\nBirria + Cilantro Lime Mash\nCheddar\, Ale and Chicken\nCheddar\, Ale and Broccoli (Veggie)\nChili Sin Carne (Veggie/ GF)\nShepherds Pie\nSausage Rolls – (Traditional/ Spicy)
URL:https://britboystreetfood.com/event/lenexa-public-market-pop-up-2/
LOCATION:Lenexa Public Market\, 8750 Penrose Ln\, Lenexa\, KS\, 66219\, United States
ORGANIZER;CN="Brit Boy Street Food":MAILTO:britboy@britboystreetfood.com
END:VEVENT
BEGIN:VEVENT
DTSTART;TZID=UTC:20260328T150000
DTEND;TZID=UTC:20260328T190000
DTSTAMP:20260420T055043
CREATED:20260310T043130Z
LAST-MODIFIED:20260311T022039Z
UID:3063-1774710000-1774724400@britboystreetfood.com
SUMMARY:Lenexa Public Market POP UP
DESCRIPTION:  \n  \n  \n  \n  \n  \n  \n  \nLenexa Public Market\nCome join us inside Lenexa City Center (After the last Winter Market) Upstairs. Saturday 3pm-7pm and Sunday 11am-6pm\n  \nWe have a quick turn around this Saturday. We are at the Farmers Market in the morning so come stock up with your frozen pies 10am-1pm\nWe will have the full menu available\nSteak\, Ale and Mushroom\nBirria + Cilantro Lime Mash\nCheddar\, Ale and Chicken\nCheddar\, Ale and Broccoli (Veggie)\nChili Sin Carne (Veggie/ GF)\nShepherds Pie\nSausage Rolls – (Traditional/ Spicy)\n  \n  \n  \n  \n 
URL:https://britboystreetfood.com/event/lenexa-public-market-pop-up/
LOCATION:Lenexa Public Market\, 8750 Penrose Ln\, Lenexa\, KS\, 66219\, United States
ORGANIZER;CN="Brit Boy Street Food":MAILTO:britboy@britboystreetfood.com
END:VEVENT
BEGIN:VEVENT
DTSTART;TZID=UTC:20260328T100000
DTEND;TZID=UTC:20260328T130000
DTSTAMP:20260420T055043
CREATED:20260310T043739Z
LAST-MODIFIED:20260310T043739Z
UID:3070-1774692000-1774702800@britboystreetfood.com
SUMMARY:Lenexa Winter Market
DESCRIPTION:Come pick up your freshly FROZEN Brit Boy pies and Sausage rolls in packs of two! \nSupport Local \nSteak\, Ale and Mushroom \nBirria + Cilantro Lime Mash \nCheddar\, Ale and Chicken \nCheddar\, Ale and Broccoli (Veggie) \nChili Sin Carne (Veggie/ GF) \nShepherds Pie \nBrisket Bean Pie (GF) \nSausage Rolls – (Traditional/ Spicy) \nSteak & Ale Pasty \nShepherds Pie Pasty \nBirria Pasty
URL:https://britboystreetfood.com/event/lenexa-winter-market/
LOCATION:Lenexa Public Market\, 8750 Penrose Ln\, Lenexa\, KS\, 66219\, United States
ORGANIZER;CN="Brit Boy Street Food":MAILTO:britboy@britboystreetfood.com
END:VEVENT
BEGIN:VEVENT
DTSTART;TZID=UTC:20260321T150000
DTEND;TZID=UTC:20260321T180000
DTSTAMP:20260420T055043
CREATED:20260108T214603Z
LAST-MODIFIED:20260114T183401Z
UID:2745-1774105200-1774116000@britboystreetfood.com
SUMMARY:Brit Boys Birthday Celebration @ (Friction Beer Co)
DESCRIPTION:YOUR INVITED…\nCome help us celebrate our 1 year anniversary in Friction Beer Company’s new event space upstairs.\nThere will be several other vendors present who have all helped me get to this stage. With every British persons favorite store making an appearance- “Brits” from Lawrence with some English delicacy’s… \nWithout giving to much away\, we are very excited to be launching our own White Labeled Beer with Friction at the event… WHAT!!! – Yes\, you can have a Pie or a Sausage roll and a Brit Boy Beer at the same time! 🤯 \nWe are also Launching an exclusive offer for our customers. Starting 3/22/26. Simply Show your receipt from a frozen order\, or in person order to the bar tender and you’ll get $2 off each Brit Boy pour… no limits!
URL:https://britboystreetfood.com/event/brit-boys-birthday-celebration-friction-beer-co/
LOCATION:Friction Beer Company\, 11018 Johnson Dr\, Shawnee\, KS\, 66203\, United States
ORGANIZER;CN="Brit Boy Street Food":MAILTO:britboy@britboystreetfood.com
END:VEVENT
BEGIN:VEVENT
DTSTART;TZID=UTC:20260317T080000
DTEND;TZID=UTC:20260317T170000
DTSTAMP:20260420T055043
CREATED:20260130T042244Z
LAST-MODIFIED:20260310T041236Z
UID:2797-1773734400-1773766800@britboystreetfood.com
SUMMARY:St Patrick's Day (ALL DAY) @ Browne's Irish Market Place
DESCRIPTION:Browne’s and Brit Boy \n  \nYou will find us on the Patio in the middle of the live music and the flowing Guinness…. \nCome say hi during the St Paddys day festivities as you make your way around the City. \n  \nWe are only serving Traditional and Spicy Sausage Rolls with roughly 150 Shepherds Pies for Lunch time \n  \nHope to see some of you \n\nCheers
URL:https://britboystreetfood.com/event/st-patricks-day-all-day-brownes-irish-market-place/
LOCATION:Browne’s Irish Marketplace\, 3300 Pennsylvania Ave\, Kansas City\, 64110\, United States
END:VEVENT
BEGIN:VEVENT
DTSTART;TZID=UTC:20260228T100000
DTEND;TZID=UTC:20260228T130000
DTSTAMP:20260420T055043
CREATED:20260114T184148Z
LAST-MODIFIED:20260114T184148Z
UID:2752-1772272800-1772283600@britboystreetfood.com
SUMMARY:Lenexa Winter Market February
DESCRIPTION:Come pick up your freshly FROZEN Brit Boy pies and sausage rolls in packs of two! \nSupport Local \nSteak\, Ale and Mushroom \nBirria + Cilantro Lime Mash \nCheddar\, Ale and Chicken \nCheddar\, Ale and Broccoli / Chilli Sin Carne (Veggie) \nShepherds Pie \nSausage Rolls – (Traditional/ Spicy) \nSteak & Ale Pasty \nCheddar Ale & Chicken Pasty \nShepherds Pie Pasty \nBirria Pasty
URL:https://britboystreetfood.com/event/lenexa-winter-market-february/
LOCATION:Lenexa Public Market\, 8750 Penrose Ln\, Lenexa\, KS\, 66219\, United States
ORGANIZER;CN="Brit Boy Street Food":MAILTO:britboy@britboystreetfood.com
END:VEVENT
BEGIN:VEVENT
DTSTART;TZID=UTC:20260225T120000
DTEND;TZID=UTC:20260225T180000
DTSTAMP:20260420T055043
CREATED:20260108T213744Z
LAST-MODIFIED:20260128T172511Z
UID:2743-1772020800-1772042400@britboystreetfood.com
SUMMARY:Manhattan (KS) Delivery (Appleyard Antiques)
DESCRIPTION:As we venture West\, one city at a time… Our next delivery our to Appleyard Antiques in Manhattan\, KS\, will be 25th of February \n  \nOrder by February 23rd to guarantee your order will be ready for pick up from 12-6 on or after February 25th.
URL:https://britboystreetfood.com/event/manhattan-ks-delivery-appleyard-antiques/
LOCATION:Appleyard Antiques $ Upholstery\, 121 S 4th St\, Manhatan\, KS\, 66502\, United States
ORGANIZER;CN="Brit Boy Street Food":MAILTO:britboy@britboystreetfood.com
END:VEVENT
BEGIN:VEVENT
DTSTART;TZID=UTC:20260220T170000
DTEND;TZID=UTC:20260220T200000
DTSTAMP:20260420T055043
CREATED:20260128T171853Z
LAST-MODIFIED:20260128T171853Z
UID:2775-1771606800-1771617600@britboystreetfood.com
SUMMARY:Rockcreek Brewing Company Pop Up
DESCRIPTION:Come Join us inside Rockcreek in Mission for your Friday night dinner \nTake some home FROZEN. Order at least 24 hours before and we will bring it to the event for you to take home FROZEN. \nFebruary 20th 5pm \nThe Menu \nSausage Rolls (Traditional/ Spicy) \nSteak\, Ale and Mushroom Pie \nShepherds Pie \nCheddar Ale and Chicken Pie \nBirria Pie w/ Cilantro Lime Potato’s \nSPECIAL – There will be a few hot Pasties to choose from (First come\, First Serve….)
URL:https://britboystreetfood.com/event/rockcreek-brewing-company-pop-up-2/
LOCATION:Rockcreek Brewing Company\, 5880 Beverly Ave\, Mission\, KS\, 66202\, United States
ORGANIZER;CN="Brit Boy Street Food":MAILTO:britboy@britboystreetfood.com
END:VEVENT
BEGIN:VEVENT
DTSTART;TZID=UTC:20260206T170000
DTEND;TZID=UTC:20260206T200000
DTSTAMP:20260420T055043
CREATED:20251219T142315Z
LAST-MODIFIED:20260116T202120Z
UID:2648-1770397200-1770408000@britboystreetfood.com
SUMMARY:SandHills Brewery Pop Up
DESCRIPTION:Come Join us inside Sandhills Brewery in Mission for your Friday night dinner \nTake some home FROZEN. Order at least 24 hours before and we will bring it to the event for you to take home FROZEN. \nFebruary 6th 5pm \nThe Menu \nSausage Rolls (Traditional/ Spicy) \nSteak\, Ale and Mushroom Pie \nShepherds Pie \nCheddar Ale and Chicken Pie \nBirria Pie w/ Cilantro Lime Potato’s
URL:https://britboystreetfood.com/event/sandhills-brewery-pop-up-2/
LOCATION:Sand Hills Brewery\, 5612 Johnson Drive\, Mission\, KS\, 66202\, United States
ORGANIZER;CN="Brit Boy Street Food":MAILTO:britboy@britboystreetfood.com
END:VEVENT
BEGIN:VEVENT
DTSTART;TZID=UTC:20260131T100000
DTEND;TZID=UTC:20260131T130000
DTSTAMP:20260420T055043
CREATED:20251026T223954Z
LAST-MODIFIED:20260116T175316Z
UID:2196-1769853600-1769864400@britboystreetfood.com
SUMMARY:Lenexa Winter Market January
DESCRIPTION:Come pick up your freshly FROZEN Brit Boy pies and sausage rolls in packs of two! \nSupport Local \nSteak\, Ale and Mushroom \nBirria + Cilantro Lime Mash \nCheddar\, Ale and Chicken \nCheddar\, Ale and Broccoli / Chilli Sin Carne (Veggie) \nShepherds Pie \nSausage Rolls – (Traditional/ Spicy) \nSteak & Ale Pasty \nCheddar Ale & Chicken Pasty \nShepherds Pie Pasty \nBirria Pasty
URL:https://britboystreetfood.com/event/lenexa-holiday-market-december/
LOCATION:Lenexa Public Market\, 8750 Penrose Ln\, Lenexa\, KS\, 66219\, United States
ORGANIZER;CN="Brit Boy Street Food":MAILTO:britboy@britboystreetfood.com
END:VEVENT
BEGIN:VEVENT
DTSTART;TZID=UTC:20260117T170000
DTEND;TZID=UTC:20260117T200000
DTSTAMP:20260420T055043
CREATED:20251219T144715Z
LAST-MODIFIED:20251219T144715Z
UID:2657-1768669200-1768680000@britboystreetfood.com
SUMMARY:Transport Brewery Pop Up
DESCRIPTION:Come Join us inside Transport Brewery in Shawnee for your Saturday night dinner \nTake some home FROZEN. Order at least 24 hours before and we will bring it to the event for you to take home FROZEN. \nNovember 21st 5pm \nThe Menu \nSausage Rolls (Traditional/ Spicy) \nSteak\, Ale and Mushroom Pie \nShepherds Pie \nCheddar Ale and Chicken Pie \nBirria Pie w/ Cilantro Lime Potato’s
URL:https://britboystreetfood.com/event/transport-brewery-pop-up-3/
LOCATION:Transport Brewery\, 11113 Johnson Drive\, Shawnee\, KS\, 66203\, United States
ORGANIZER;CN="Brit Boy Street Food":MAILTO:britboy@britboystreetfood.com
END:VEVENT
BEGIN:VEVENT
DTSTART;TZID=UTC:20251129T100000
DTEND;TZID=UTC:20251129T140000
DTSTAMP:20260420T055043
CREATED:20251020T205109Z
LAST-MODIFIED:20251026T224256Z
UID:2136-1764410400-1764424800@britboystreetfood.com
SUMMARY:Manhattan KS Pickup Location Launch Event
DESCRIPTION:We are excited to announce we are expanding our pick up locations to Manhattan Kansas. We are partnering with Appleyard Upholstery are who will be providing our next pick up location for the good people of Manhattan\, KS. They are doing a soft launch at 10am Saturday 1st November so if you are in the area\, stop by and say hi and check out all the cool stuff they have to offer. \nHot Sausage rolls will be served complementary on a first come first serve basis…
URL:https://britboystreetfood.com/event/manhattan-ks-pickup-location-launch-event/
LOCATION:Appleyard Antiques $ Upholstery\, 121 S 4th St\, Manhatan\, KS\, 66502\, United States
END:VEVENT
BEGIN:VEVENT
DTSTART;TZID=UTC:20251122T100000
DTEND;TZID=UTC:20251122T130000
DTSTAMP:20260420T055043
CREATED:20251026T223746Z
LAST-MODIFIED:20251026T224136Z
UID:2194-1763805600-1763816400@britboystreetfood.com
SUMMARY:Holiday Market Lenexa November
DESCRIPTION:Come pick up your freshly FROZEN Brit Boy pies and sausage rolls in packs of two! \nSupport Local \nSteak\, Ale and Mushroom \nBirria + Cilantro Lime Mash \nCheddar\, Ale and Chicken \nCheddar\, Ale and Broccoli (Veggie) \nShepherds Pie \nSausage Rolls – (Traditional/ Spicy) \nSteak & Ale Pasty \nCheddar Ale & Chicken Pasty \nShepherds Pie Pasty \nBirria Pasty
URL:https://britboystreetfood.com/event/holiday-market-lenexa/
LOCATION:Lenexa Public Market\, 8750 Penrose Ln\, Lenexa\, KS\, 66219\, United States
ORGANIZER;CN="Brit Boy Street Food":MAILTO:britboy@britboystreetfood.com
END:VEVENT
BEGIN:VEVENT
DTSTART;TZID=UTC:20251121T170000
DTEND;TZID=UTC:20251121T170000
DTSTAMP:20260420T055043
CREATED:20251020T213855Z
LAST-MODIFIED:20251020T213855Z
UID:2144-1763744400-1763744400@britboystreetfood.com
SUMMARY:Sandhills November Pop up
DESCRIPTION:Come Join us inside Sandhills Brewery in Mission for your Friday night dinner \nTake some home FROZEN. Order at least 24 hours before and we will bring it to the event for you to take home FROZEN. \nNovember 21st 5pm \nThe Menu \nSausage Rolls (Traditional/ Spicy) \nSteak\, Ale and Mushroom Pie \nShepherds Pie \nCheddar Ale and Chicken Pie \nBirria Pie w/ Cilantro Lime Potato’s
URL:https://britboystreetfood.com/event/sandhills-november-pop-up/
LOCATION:Sand Hills Brewery\, 5612 Johnson Drive\, Mission\, KS\, 66202\, United States
ORGANIZER;CN="Brit Boy Street Food":MAILTO:britboy@britboystreetfood.com
END:VEVENT
BEGIN:VEVENT
DTSTART;TZID=UTC:20251115T100000
DTEND;TZID=UTC:20251115T153000
DTSTAMP:20260420T055043
CREATED:20251020T205911Z
LAST-MODIFIED:20251020T205911Z
UID:2138-1763200800-1763220600@britboystreetfood.com
SUMMARY:Daughters of The British Empire Tea Party
DESCRIPTION:Come join the fun. \nHave British Roots? \nLike a good old fashioned tea party? \nWant to meet some cool people in our community? \nBrit Boy will be serving up our Frozen pies for everyone to take home. \n 
URL:https://britboystreetfood.com/event/daughters-of-the-british-empire-tea-party/
LOCATION:Community Covenant Church\, 15700 w 87th st Pkwy\, Lenexa\, KS\, 66219\, United States
END:VEVENT
BEGIN:VEVENT
DTSTART;TZID=UTC:20251107T170000
DTEND;TZID=UTC:20251107T200000
DTSTAMP:20260420T055043
CREATED:20251020T204014Z
LAST-MODIFIED:20251020T204014Z
UID:2133-1762534800-1762545600@britboystreetfood.com
SUMMARY:Rockcreek Brewing Company Pop Up
DESCRIPTION:Come Join us inside Rockcreek in Mission for your Friday night dinner \nTake some home FROZEN. Order at least 24 hours before and we will bring it to the event for you to take home FROZEN. \nNovember 7th 5pm \nThe Menu \nSausage Rolls (Traditional/ Spicy) \nSteak\, Ale and Mushroom Pie \nShepherds Pie \nCheddar Ale and Chicken Pie \nBirria Pie w/ Cilantro Lime Potato’s \nSPECIAL —- Brisket + Bean Pie (Kansas/ English Fusion)
URL:https://britboystreetfood.com/event/rockcreek-brewing-company-pop-up/
LOCATION:Rockcreek Brewing Company\, 5880 Beverly Ave\, Mission\, KS\, 66202\, United States
ORGANIZER;CN="Brit Boy Street Food":MAILTO:britboy@britboystreetfood.com
END:VEVENT
BEGIN:VEVENT
DTSTART;TZID=UTC:20251025T080000
DTEND;TZID=UTC:20251025T120000
DTSTAMP:20260420T055043
CREATED:20250812T184041Z
LAST-MODIFIED:20250812T184041Z
UID:1950-1761379200-1761393600@britboystreetfood.com
SUMMARY:Lenexa Farmers Market
DESCRIPTION:Come pick up your freshly FROZEN Brit Boy pies and sausage rolls in packs of two! \nSupport Local \nSteak\, Ale and Mushroom \nBirria + Cilantro Lime Mash \nCheddar\, Ale and Chicken \nCheddar\, Ale and Broccoli (Veggie) \nShepherds Pie \nSausage Rolls – (Traditional/ Spicy) \nSteak & Ale Pasty \nBirria Pasty
URL:https://britboystreetfood.com/event/lenexa-farmers-market-5/
LOCATION:Lenexa Public Market\, 8750 Penrose Ln\, Lenexa\, KS\, 66219\, United States
ORGANIZER;CN="Brit Boy Street Food":MAILTO:britboy@britboystreetfood.com
END:VEVENT
BEGIN:VEVENT
DTSTART;TZID=UTC:20251004T160000
DTEND;TZID=UTC:20251004T190000
DTSTAMP:20260420T055043
CREATED:20250805T103056Z
LAST-MODIFIED:20250805T185941Z
UID:1923-1759593600-1759604400@britboystreetfood.com
SUMMARY:Transport Brewery (Pop Up)
DESCRIPTION:Take some home FROZEN. Order at least 24 hours before and we will bring it to the event for you to take home FROZEN. \nJoin us on October 4th inside Transport Brewery in downtown Shawnee where we will be serving \nOctober 4th – 4-7pm \nThe Menu \nSausage Rolls (Traditional/ Spicy) \nSteak\, Ale and Mushroom Pie \nShepherds Pie \nCheddar Ale and Chicken Pie \nBirria Pie w/ Cilantro Lime Potato’s
URL:https://britboystreetfood.com/event/transport-brewery-pop-up/
LOCATION:Transport Brewery\, 11113 Johnson Drive\, Shawnee\, KS\, 66203\, United States
ORGANIZER;CN="Brit Boy Street Food":MAILTO:britboy@britboystreetfood.com
END:VEVENT
BEGIN:VEVENT
DTSTART;TZID=UTC:20250927T080000
DTEND;TZID=UTC:20250927T120000
DTSTAMP:20260420T055043
CREATED:20250812T183323Z
LAST-MODIFIED:20250812T183751Z
UID:1944-1758960000-1758974400@britboystreetfood.com
SUMMARY:Lenexa Farmers Market
DESCRIPTION:Come pick up your freshly FROZEN Brit Boy pies and sausage rolls in packs of two! \nSupport Local \nSteak\, Ale and Mushroom \nBirria + Cilantro Lime Mash \nCheddar\, Ale and Chicken \nCheddar\, Ale and Broccoli (Veggie) \nShepherds Pie \nSausage Rolls – (Traditional/ Spicy) \nSteak & Ale Pasty \nBirria Pasty
URL:https://britboystreetfood.com/event/lenexa-farmers-market-4/
LOCATION:Lenexa Public Market\, 8750 Penrose Ln\, Lenexa\, KS\, 66219\, United States
ORGANIZER;CN="Brit Boy Street Food":MAILTO:britboy@britboystreetfood.com
END:VEVENT
BEGIN:VEVENT
DTSTART;TZID=UTC:20250926T053000
DTEND;TZID=UTC:20250926T210000
DTSTAMP:20260420T055043
CREATED:20250904T024406Z
LAST-MODIFIED:20250904T024528Z
UID:2060-1758864600-1758920400@britboystreetfood.com
SUMMARY:Friction Brewery Pop up
DESCRIPTION:Come Join us inside Friction Brewery in Shawnee for your Friday night dinner \nTake some home FROZEN. Order at least 24 hours before and we will bring it to the event for you to take home FROZEN. \nSeptember 26th \nThe Menu \nSausage Rolls (Traditional/ Spicy) \nSteak\, Ale and Mushroom Pie \nShepherds Pie \nCheddar Ale and Chicken Pie \nBirria Pie w/ Cilantro Lime Potato’s
URL:https://britboystreetfood.com/event/friction-brewery-pop-u/
LOCATION:Friction Beer Company\, 11018 Johnson Dr\, Shawnee\, KS\, 66203\, United States
ORGANIZER;CN="Brit Boy Street Food":MAILTO:britboy@britboystreetfood.com
END:VEVENT
BEGIN:VEVENT
DTSTART;TZID=UTC:20250914T150000
DTEND;TZID=UTC:20250914T170000
DTSTAMP:20260420T055043
CREATED:20250805T102244Z
LAST-MODIFIED:20250805T102244Z
UID:1921-1757862000-1757869200@britboystreetfood.com
SUMMARY:Transport Brewery - (Gears & Beers)
DESCRIPTION:Come Join us inside Transport Brewery in Shawnee after the Bike Ride. Starting at Friction Beer Company\, Heading to Sandhills in Mission. Finishing at Transport \nTake some home FROZEN. Order at least 24 hours before and we will bring it to the event for you to take home FROZEN. \nSeptember 14th \nThe Menu \nSausage Rolls (Traditional/ Spicy) \nSteak\, Ale and Mushroom Pie \nShepherds Pie \nCheddar Ale and Chicken Pie \nBirria Pie w/ Cilantro Lime Potato’s
URL:https://britboystreetfood.com/event/transport-brewery-gears-beers/
LOCATION:Transport Brewery\, 11113 Johnson Drive\, Shawnee\, KS\, 66203\, United States
END:VEVENT
BEGIN:VEVENT
DTSTART;TZID=UTC:20250912T170000
DTEND;TZID=UTC:20250912T190000
DTSTAMP:20260420T055043
CREATED:20250812T182920Z
LAST-MODIFIED:20250812T182920Z
UID:1942-1757696400-1757703600@britboystreetfood.com
SUMMARY:Sandhills September Pop up
DESCRIPTION:Come Join us inside Sandhills Brewery in Mission for your Friday night dinner \nTake some home FROZEN. Order at least 24 hours before and we will bring it to the event for you to take home FROZEN. \nSeptember 14th \nThe Menu \nSausage Rolls (Traditional/ Spicy) \nSteak\, Ale and Mushroom Pie \nShepherds Pie \nCheddar Ale and Chicken Pie \nBirria Pie w/ Cilantro Lime Potato’s
URL:https://britboystreetfood.com/event/sandhills-september-pop-up/
LOCATION:Sand Hills Brewery\, 5612 Johnson Drive\, Mission\, KS\, 66202\, United States
ORGANIZER;CN="Brit Boy Street Food":MAILTO:britboy@britboystreetfood.com
END:VEVENT
BEGIN:VEVENT
DTSTART;TZID=UTC:20250829T160000
DTEND;TZID=UTC:20250829T210000
DTSTAMP:20260420T055043
CREATED:20250326T024454Z
LAST-MODIFIED:20250626T033446Z
UID:1293-1756483200-1756501200@britboystreetfood.com
SUMMARY:Transport Brewery Pop Up
DESCRIPTION:Come Join us inside Transport Brewery in Shawnee \nTake some home FROZEN. Order at least 24 hours before and we will bring it to the event for you to take home FROZEN. \nAugust 29th 4pm-9pm \nThe Menu \nSausage Rolls (Traditional/ Spicy) \nSteak\, Ale and Mushroom Pie \nShepherds Pie \nCheddar Ale and Chicken Pie \nBirria Pie w/ Cilantro Lime Potato’s \nSteak Pasty
URL:https://britboystreetfood.com/event/brit-boy-street-food-transport-brewery/
LOCATION:Transport Brewery\, 11113 Johnson Drive\, Shawnee\, KS\, 66203\, United States
ORGANIZER;CN="Brit Boy Street Food":MAILTO:britboy@britboystreetfood.com
END:VEVENT
BEGIN:VEVENT
DTSTART;TZID=UTC:20250816T080000
DTEND;TZID=UTC:20250816T120000
DTSTAMP:20260420T055043
CREATED:20250805T104659Z
LAST-MODIFIED:20250805T184009Z
UID:1925-1755331200-1755345600@britboystreetfood.com
SUMMARY:Lenexa Farmers Market
DESCRIPTION:Come pick up your freshly FROZEN Brit Boy pies and sausage rolls in packs of two! \nSupport Local \nSteak\, Ale and Mushroom \nBirria + Cilantro Lime Mash \nCheddar\, Ale and Chicken \nCheddar\, Ale and Broccoli (Veggie) \nShepherds Pie \nSausage Rolls – (Traditional/ Spicy) \nSteak & Ale Pasty \nBirria Pasty \n 
URL:https://britboystreetfood.com/event/lenexa-farmers-market-3/
LOCATION:Lenexa Public Market\, 8750 Penrose Ln\, Lenexa\, KS\, 66219\, United States
ORGANIZER;CN="Brit Boy Street Food":MAILTO:britboy@britboystreetfood.com
END:VEVENT
BEGIN:VEVENT
DTSTART;TZID=UTC:20250808T180000
DTEND;TZID=UTC:20250808T220000
DTSTAMP:20260420T055043
CREATED:20250506T184657Z
LAST-MODIFIED:20250805T184113Z
UID:1464-1754676000-1754690400@britboystreetfood.com
SUMMARY:Friction Beer Co KC Current @Utah Royals
DESCRIPTION:Order online at least 24 hours before for FROZEN food to be brought to the event for you to take home FROZEN. \nKC Current @ Utah Royals with kick off @ 9pm CST. We will be on site from 6pm serving the following: \nMenu \nSausage Rolls \nSteak\, Ale and Mushroom Pie \nShepherds Pie \nCheddar Ale and Chicken Pie \nBirria & Cilantro & Lime Potato’s
URL:https://britboystreetfood.com/event/super-sunday-friction-beer-co/
LOCATION:Friction Beer Company\, 11018 Johnson Dr\, Shawnee\, KS\, 66203\, United States
ORGANIZER;CN="Brit Boy Street Food":MAILTO:britboy@britboystreetfood.com
END:VEVENT
BEGIN:VEVENT
DTSTART;TZID=UTC:20250801T173000
DTEND;TZID=UTC:20250801T210000
DTSTAMP:20260420T055043
CREATED:20250707T180649Z
LAST-MODIFIED:20250707T180649Z
UID:1828-1754069400-1754082000@britboystreetfood.com
SUMMARY:Border Brew First Fridays
DESCRIPTION:  \n \nFind us in Border Brew’s Window for the First 1st Fridays of 2025. \n6-9pm \nThe Menu \nBirria Pie… With Cilantro Lime Potato’s \nSausage Rolls (Spicey/ Traditional) \nSteak\, Ale and Mushroom Pie \nShepherds Pie \nCheddar Ale and Chicken Pie \n 
URL:https://britboystreetfood.com/event/border-brew-first-fridays/
LOCATION:Border Brewing Company | Kansas City\, MO\, 523 E 18th St\, Kansas City\, MO\, 64108\, United States
ORGANIZER;CN="Brit Boy Street Food":MAILTO:britboy@britboystreetfood.com
END:VEVENT
BEGIN:VEVENT
DTSTART;TZID=UTC:20250726T080000
DTEND;TZID=UTC:20250726T120000
DTSTAMP:20260420T055043
CREATED:20250707T181617Z
LAST-MODIFIED:20250707T181617Z
UID:1830-1753516800-1753531200@britboystreetfood.com
SUMMARY:Lenexa Farmers Market
DESCRIPTION:Come pick up your Frozen pies and Sausage rolls in (Packs of 2) along with all the fresh fruit and veggies you need for the week. \nSupport Local \nSteak\, Ale and Mushroom \nBirria + Cilantro Lime Mash \nCheddar\, Ale and Chicken \nCheddar\, Ale and Broccoli (Veggie) \nShepherds Pie \nSausage Rolls – (Traditional/ Spicy)
URL:https://britboystreetfood.com/event/lenexa-farmers-market-2/
LOCATION:Lenexa Public Market\, 8750 Penrose Ln\, Lenexa\, KS\, 66219\, United States
ORGANIZER;CN="Brit Boy Street Food":MAILTO:britboy@britboystreetfood.com
END:VEVENT
BEGIN:VEVENT
DTSTART;TZID=UTC:20250725T173000
DTEND;TZID=UTC:20250725T210000
DTSTAMP:20260420T055043
CREATED:20250707T182544Z
LAST-MODIFIED:20250707T182544Z
UID:1836-1753464600-1753477200@britboystreetfood.com
SUMMARY:Sandhills Pop Up
DESCRIPTION:Birria Pie… With Cilantro Lime Potato’s \nSausage Rolls (Spicey/ Traditional) \nSteak\, Ale and Mushroom Pie \nShepherds Pie \nCheddar Ale and Chicken Pie (Also a few without Chicken (Vegetarian))
URL:https://britboystreetfood.com/event/sandhills-pop-up/
LOCATION:Sand Hills Brewery\, 5612 Johnson Drive\, Mission\, KS\, 66202\, United States
ORGANIZER;CN="Brit Boy Street Food":MAILTO:britboy@britboystreetfood.com
END:VEVENT
BEGIN:VEVENT
DTSTART;TZID=UTC:20250628T080000
DTEND;TZID=UTC:20250628T120000
DTSTAMP:20260420T055043
CREATED:20250604T183326Z
LAST-MODIFIED:20250604T183326Z
UID:1709-1751097600-1751112000@britboystreetfood.com
SUMMARY:Lenexa Farmers Market
DESCRIPTION:Come pick up your Frozen pies and Sausage rolls in (Packs of 2) along with all the fresh fruit and veggies you need for the week. \nSupport Local \nSteak\, Ale and Mushroom \nBirria + Cilantro Lime Mash \nCheddar\, Ale and Chicken \nCheddar\, Ale and Broccoli (Veggie) \nShepherds Pie \nSausage Rolls – (Traditional/ Spicy)
URL:https://britboystreetfood.com/event/lenexa-farmers-market/
LOCATION:Lenexa Public Market\, 8750 Penrose Ln\, Lenexa\, KS\, 66219\, United States
ORGANIZER;CN="Brit Boy Street Food":MAILTO:britboy@britboystreetfood.com
END:VEVENT
END:VCALENDAR