BEGIN:VCALENDAR
VERSION:2.0
PRODID:-//Brit Boy Street Food - ECPv6.15.20//NONSGML v1.0//EN
CALSCALE:GREGORIAN
METHOD:PUBLISH
X-WR-CALNAME:Brit Boy Street Food
X-ORIGINAL-URL:https://britboystreetfood.com
X-WR-CALDESC:Events for Brit Boy Street Food
REFRESH-INTERVAL;VALUE=DURATION:PT1H
X-Robots-Tag:noindex
X-PUBLISHED-TTL:PT1H
BEGIN:VTIMEZONE
TZID:UTC
BEGIN:STANDARD
TZOFFSETFROM:+0000
TZOFFSETTO:+0000
TZNAME:UTC
DTSTART:20240101T000000
END:STANDARD
END:VTIMEZONE
BEGIN:VEVENT
DTSTART;TZID=UTC:20251129T100000
DTEND;TZID=UTC:20251129T140000
DTSTAMP:20260424T083513
CREATED:20251020T205109Z
LAST-MODIFIED:20251026T224256Z
UID:2136-1764410400-1764424800@britboystreetfood.com
SUMMARY:Manhattan KS Pickup Location Launch Event
DESCRIPTION:We are excited to announce we are expanding our pick up locations to Manhattan Kansas. We are partnering with Appleyard Upholstery are who will be providing our next pick up location for the good people of Manhattan\, KS. They are doing a soft launch at 10am Saturday 1st November so if you are in the area\, stop by and say hi and check out all the cool stuff they have to offer. \nHot Sausage rolls will be served complementary on a first come first serve basis…
URL:https://britboystreetfood.com/event/manhattan-ks-pickup-location-launch-event/
LOCATION:Appleyard Antiques $ Upholstery\, 121 S 4th St\, Manhatan\, KS\, 66502\, United States
END:VEVENT
END:VCALENDAR